BEGIN:VCALENDAR
VERSION:2.0
PRODID:-//Wirtschaftliche Vereinigung Schwarzenbek - ECPv6.15.20//NONSGML v1.0//EN
CALSCALE:GREGORIAN
METHOD:PUBLISH
X-WR-CALNAME:Wirtschaftliche Vereinigung Schwarzenbek
X-ORIGINAL-URL:https://wvs-schwarzenbek.de
X-WR-CALDESC:Veranstaltungen für Wirtschaftliche Vereinigung Schwarzenbek
REFRESH-INTERVAL;VALUE=DURATION:PT1H
X-Robots-Tag:noindex
X-PUBLISHED-TTL:PT1H
BEGIN:VTIMEZONE
TZID:Europe/Berlin
BEGIN:DAYLIGHT
TZOFFSETFROM:+0100
TZOFFSETTO:+0200
TZNAME:CEST
DTSTART:20240331T010000
END:DAYLIGHT
BEGIN:STANDARD
TZOFFSETFROM:+0200
TZOFFSETTO:+0100
TZNAME:CET
DTSTART:20241027T010000
END:STANDARD
BEGIN:DAYLIGHT
TZOFFSETFROM:+0100
TZOFFSETTO:+0200
TZNAME:CEST
DTSTART:20250330T010000
END:DAYLIGHT
BEGIN:STANDARD
TZOFFSETFROM:+0200
TZOFFSETTO:+0100
TZNAME:CET
DTSTART:20251026T010000
END:STANDARD
BEGIN:DAYLIGHT
TZOFFSETFROM:+0100
TZOFFSETTO:+0200
TZNAME:CEST
DTSTART:20260329T010000
END:DAYLIGHT
BEGIN:STANDARD
TZOFFSETFROM:+0200
TZOFFSETTO:+0100
TZNAME:CET
DTSTART:20261025T010000
END:STANDARD
END:VTIMEZONE
BEGIN:VEVENT
DTSTART;TZID=Europe/Berlin:20251009T170000
DTEND;TZID=Europe/Berlin:20251009T200000
DTSTAMP:20260422T171749
CREATED:20251007T132230Z
LAST-MODIFIED:20251007T132230Z
UID:6778-1760029200-1760040000@wvs-schwarzenbek.de
SUMMARY:WVS Netzwerk-Treffen „Heinke-Tec – Inside“
DESCRIPTION:Heinke-Tec und Schiffsreparatur mitten in Schwarzenbek?\nFast – beinahe!\nUnd was ist es nun wirklich?\nDas zeigen wir Ihnen beim WVS Netzwerk-Treffen „Heinke-Tec – Inside“. \nClaudius Heinke und seine Mitarbeiter stellen uns die Firma Heinke-Tec und ihre Besonderheiten vor.\nUnd sie lösen auf\, was es mit der „Schiffsreparatur mitten in Schwarzenbek““auf sich hat.\nKommen Sie gerne hungrig. Und neugierig!
URL:https://wvs-schwarzenbek.de/veranstaltung/wvs-netzwerk-treffen-heinke-tec-inside/
LOCATION:Firma Heinke-Tec\, Grabauer Str. 41–43\, Schwarzenbek\, 21493
CATEGORIES:Veranstaltungen der WVS
END:VEVENT
END:VCALENDAR