BEGIN:VCALENDAR
VERSION:2.0
PRODID:-//Wirtschaftliche Vereinigung Schwarzenbek - ECPv6.15.20//NONSGML v1.0//EN
CALSCALE:GREGORIAN
METHOD:PUBLISH
X-ORIGINAL-URL:https://wvs-schwarzenbek.de
X-WR-CALDESC:Veranstaltungen für Wirtschaftliche Vereinigung Schwarzenbek
REFRESH-INTERVAL;VALUE=DURATION:PT1H
X-Robots-Tag:noindex
X-PUBLISHED-TTL:PT1H
BEGIN:VTIMEZONE
TZID:Europe/Berlin
BEGIN:DAYLIGHT
TZOFFSETFROM:+0100
TZOFFSETTO:+0200
TZNAME:CEST
DTSTART:20240331T010000
END:DAYLIGHT
BEGIN:STANDARD
TZOFFSETFROM:+0200
TZOFFSETTO:+0100
TZNAME:CET
DTSTART:20241027T010000
END:STANDARD
BEGIN:DAYLIGHT
TZOFFSETFROM:+0100
TZOFFSETTO:+0200
TZNAME:CEST
DTSTART:20250330T010000
END:DAYLIGHT
BEGIN:STANDARD
TZOFFSETFROM:+0200
TZOFFSETTO:+0100
TZNAME:CET
DTSTART:20251026T010000
END:STANDARD
BEGIN:DAYLIGHT
TZOFFSETFROM:+0100
TZOFFSETTO:+0200
TZNAME:CEST
DTSTART:20260329T010000
END:DAYLIGHT
BEGIN:STANDARD
TZOFFSETFROM:+0200
TZOFFSETTO:+0100
TZNAME:CET
DTSTART:20261025T010000
END:STANDARD
END:VTIMEZONE
BEGIN:VEVENT
DTSTART;TZID=Europe/Berlin:20251111T080000
DTEND;TZID=Europe/Berlin:20251111T170000
DTSTAMP:20260422T153850
CREATED:20250113T191916Z
LAST-MODIFIED:20250113T191916Z
UID:6421-1762848000-1762880400@wvs-schwarzenbek.de
SUMMARY:WVS Wirtschaftspreisverleihung 2025
DESCRIPTION:Seit 1994 verleiht die WVS jährlich den Wirtschaftspreis – eine schwere Bronze-Plakette\, die zusätzlich mit einem Geldbetrag dotiert ist.\nAusgezeichnet werden Firmen oder Unternehmer\, die sich in besonderer Form für ihre Mitarbeiter\, Ihre Kunden und die Bürger der Stadt engagieren.\nEingeladen sind Mitglieder der WVS und Gäste aus Politik und Institutionen/Vereinen.
URL:https://wvs-schwarzenbek.de/veranstaltung/wvs-wirtschaftspreisverleihung-2025/
LOCATION:Noch nicht festgelegt
CATEGORIES:Veranstaltungen der WVS
END:VEVENT
END:VCALENDAR