BEGIN:VCALENDAR
VERSION:2.0
PRODID:-//Wirtschaftliche Vereinigung Schwarzenbek - ECPv6.15.20//NONSGML v1.0//EN
CALSCALE:GREGORIAN
METHOD:PUBLISH
X-ORIGINAL-URL:https://wvs-schwarzenbek.de
X-WR-CALDESC:Veranstaltungen für Wirtschaftliche Vereinigung Schwarzenbek
REFRESH-INTERVAL;VALUE=DURATION:PT1H
X-Robots-Tag:noindex
X-PUBLISHED-TTL:PT1H
BEGIN:VTIMEZONE
TZID:Europe/Berlin
BEGIN:DAYLIGHT
TZOFFSETFROM:+0100
TZOFFSETTO:+0200
TZNAME:CEST
DTSTART:20250330T010000
END:DAYLIGHT
BEGIN:STANDARD
TZOFFSETFROM:+0200
TZOFFSETTO:+0100
TZNAME:CET
DTSTART:20251026T010000
END:STANDARD
BEGIN:DAYLIGHT
TZOFFSETFROM:+0100
TZOFFSETTO:+0200
TZNAME:CEST
DTSTART:20260329T010000
END:DAYLIGHT
BEGIN:STANDARD
TZOFFSETFROM:+0200
TZOFFSETTO:+0100
TZNAME:CET
DTSTART:20261025T010000
END:STANDARD
BEGIN:DAYLIGHT
TZOFFSETFROM:+0100
TZOFFSETTO:+0200
TZNAME:CEST
DTSTART:20270328T010000
END:DAYLIGHT
BEGIN:STANDARD
TZOFFSETFROM:+0200
TZOFFSETTO:+0100
TZNAME:CET
DTSTART:20271031T010000
END:STANDARD
END:VTIMEZONE
BEGIN:VEVENT
DTSTART;TZID=Europe/Berlin:20260501T130000
DTEND;TZID=Europe/Berlin:20260501T160000
DTSTAMP:20260422T100704
CREATED:20250124T120841Z
LAST-MODIFIED:20251216T154100Z
UID:6443-1777640400-1777651200@wvs-schwarzenbek.de
SUMMARY:Dîner en blanc
DESCRIPTION:Weiß gekleidete Menschen treffen sich zu einem Picknick – mit selbst mitgebrachten Speisen und Getränken beim Maibaum auf dem Alten Markt.
URL:https://wvs-schwarzenbek.de/veranstaltung/diner-en-blanc/
LOCATION:Alter Marktplatz\, Schwarzenbek
CATEGORIES:Veranstaltungen der WVS
END:VEVENT
BEGIN:VEVENT
DTSTART;TZID=Europe/Berlin:20260505T183000
DTEND;TZID=Europe/Berlin:20260505T213000
DTSTAMP:20260422T100704
CREATED:20250113T191240Z
LAST-MODIFIED:20251216T153434Z
UID:6404-1778005800-1778016600@wvs-schwarzenbek.de
SUMMARY:WVS Vorstandssitzung Mai
DESCRIPTION:Die Sitzung ist nicht öffentlich – aber gerne können Sie uns dazu vorab Kritik\, Lob\, Ideen\, etc. zukommen lassen.\nSie möchten den Vorstand kennenlernen\, sich selbst vorstellen oder haben Gesprächsbedarf?\nMelden Sie sich und wir ermöglichen es Ihnen gerne\, zum Anfang einer Vorstandssitzung dazuzukommen.
URL:https://wvs-schwarzenbek.de/veranstaltung/wvs-vorstandssitzung-mai-2/
LOCATION:Noch nicht festgelegt
CATEGORIES:WVS intern
ORGANIZER;CN="WVS - der Vorstand":MAILTO:kontakt@wvs-schwarzenbek.de
END:VEVENT
END:VCALENDAR