BEGIN:VCALENDAR
VERSION:2.0
PRODID:-//Wirtschaftliche Vereinigung Schwarzenbek - ECPv6.15.20//NONSGML v1.0//EN
CALSCALE:GREGORIAN
METHOD:PUBLISH
X-WR-CALNAME:Wirtschaftliche Vereinigung Schwarzenbek
X-ORIGINAL-URL:https://wvs-schwarzenbek.de
X-WR-CALDESC:Veranstaltungen für Wirtschaftliche Vereinigung Schwarzenbek
REFRESH-INTERVAL;VALUE=DURATION:PT1H
X-Robots-Tag:noindex
X-PUBLISHED-TTL:PT1H
BEGIN:VTIMEZONE
TZID:Europe/Berlin
BEGIN:DAYLIGHT
TZOFFSETFROM:+0100
TZOFFSETTO:+0200
TZNAME:CEST
DTSTART:20250330T010000
END:DAYLIGHT
BEGIN:STANDARD
TZOFFSETFROM:+0200
TZOFFSETTO:+0100
TZNAME:CET
DTSTART:20251026T010000
END:STANDARD
BEGIN:DAYLIGHT
TZOFFSETFROM:+0100
TZOFFSETTO:+0200
TZNAME:CEST
DTSTART:20260329T010000
END:DAYLIGHT
BEGIN:STANDARD
TZOFFSETFROM:+0200
TZOFFSETTO:+0100
TZNAME:CET
DTSTART:20261025T010000
END:STANDARD
BEGIN:DAYLIGHT
TZOFFSETFROM:+0100
TZOFFSETTO:+0200
TZNAME:CEST
DTSTART:20270328T010000
END:DAYLIGHT
BEGIN:STANDARD
TZOFFSETFROM:+0200
TZOFFSETTO:+0100
TZNAME:CET
DTSTART:20271031T010000
END:STANDARD
END:VTIMEZONE
BEGIN:VEVENT
DTSTART;TZID=Europe/Berlin:20260602T183000
DTEND;TZID=Europe/Berlin:20260602T213000
DTSTAMP:20260422T112329
CREATED:20250113T191325Z
LAST-MODIFIED:20251216T153552Z
UID:6406-1780425000-1780435800@wvs-schwarzenbek.de
SUMMARY:WVS Vorstandssitzung Juni
DESCRIPTION:Die Sitzung ist nicht öffentlich – aber gerne können Sie uns dazu vorab Kritik\, Lob\, Ideen\, etc. zukommen lassen.\nSie möchten den Vorstand kennenlernen\, sich selbst vorstellen oder haben Gesprächsbedarf?\nMelden Sie sich und wir ermöglichen es Ihnen gerne\, zum Anfang einer Vorstandssitzung dazuzukommen.
URL:https://wvs-schwarzenbek.de/veranstaltung/wvs-vorstandssitzung-juni-2/
LOCATION:Noch nicht festgelegt
CATEGORIES:WVS intern
ORGANIZER;CN="WVS - der Vorstand":MAILTO:kontakt@wvs-schwarzenbek.de
END:VEVENT
BEGIN:VEVENT
DTSTART;TZID=Europe/Berlin:20260618T173000
DTEND;TZID=Europe/Berlin:20260618T230000
DTSTAMP:20260422T112329
CREATED:20250417T150714Z
LAST-MODIFIED:20251216T153723Z
UID:6528-1781803800-1781823600@wvs-schwarzenbek.de
SUMMARY:WVS Weinfest – Afterwork Opening
DESCRIPTION:Das WVS-Weinfest wird auch 2026 wieder mit dem After Work Opening am Donnerstag Abend beginnen.\nNeben Wein werden auch Bier und andere Getränke angeboten\, dazu eine kulinarische Vielfalt an Speisen.\nEin besonderes Highlight ist die Verlosung der Käse-Sommelière Petra Schweim.\nÖffnungszeiten voraussichtlich jeweils von 17:30 bis 23 Uhr.
URL:https://wvs-schwarzenbek.de/veranstaltung/wvs-weinfest-afterwork-opening/
LOCATION:Alter Marktplatz\, Schwarzenbek
CATEGORIES:Veranstaltungen der WVS
END:VEVENT
BEGIN:VEVENT
DTSTART;TZID=Europe/Berlin:20260619T173000
DTEND;TZID=Europe/Berlin:20260619T230000
DTSTAMP:20260422T112329
CREATED:20250417T151038Z
LAST-MODIFIED:20251216T153858Z
UID:6530-1781890200-1781910000@wvs-schwarzenbek.de
SUMMARY:WVS Weinfest
DESCRIPTION:Am Freitag erwartet die Gäste mitreißende Live-Musik.\nNeben Wein werden auch Bier und andere Getränke angeboten\, dazu eine kulinarische Vielfalt an Speisen.\nÖffnungszeiten voraussichtlich jeweils von 17:30 bis 23 Uhr.
URL:https://wvs-schwarzenbek.de/veranstaltung/wvs-weinfest/
LOCATION:Alter Marktplatz\, Schwarzenbek
CATEGORIES:Veranstaltungen der WVS
END:VEVENT
BEGIN:VEVENT
DTSTART;TZID=Europe/Berlin:20260620T173000
DTEND;TZID=Europe/Berlin:20260620T230000
DTSTAMP:20260422T112329
CREATED:20250417T151210Z
LAST-MODIFIED:20251216T153955Z
UID:6532-1781976600-1781996400@wvs-schwarzenbek.de
SUMMARY:WVS Weinfest
DESCRIPTION:Der Samstag lädt zum Tanzen ein\, denn unser Lokal-Matador Kai-Uwe Fischer legt auf!\nNeben Wein werden auch Bier und andere Getränke angeboten\, dazu eine kulinarische Vielfalt an Speisen.\nÖffnungszeiten voraussichtlich jeweils von 17:30 bis 23 Uhr.
URL:https://wvs-schwarzenbek.de/veranstaltung/wvs-weinfest-2/
LOCATION:Alter Marktplatz\, Schwarzenbek
CATEGORIES:Veranstaltungen der WVS
END:VEVENT
END:VCALENDAR